BEGIN:VCALENDAR
VERSION:2.0
PRODID:-//Neighborhood House - ECPv6.15.20//NONSGML v1.0//EN
CALSCALE:GREGORIAN
METHOD:PUBLISH
X-WR-CALNAME:Neighborhood House
X-ORIGINAL-URL:https://neighborhoodhousemn.org
X-WR-CALDESC:Events for Neighborhood House
REFRESH-INTERVAL;VALUE=DURATION:PT1H
X-Robots-Tag:noindex
X-PUBLISHED-TTL:PT1H
BEGIN:VTIMEZONE
TZID:America/Chicago
BEGIN:DAYLIGHT
TZOFFSETFROM:-0600
TZOFFSETTO:-0500
TZNAME:CDT
DTSTART:20210314T080000
END:DAYLIGHT
BEGIN:STANDARD
TZOFFSETFROM:-0500
TZOFFSETTO:-0600
TZNAME:CST
DTSTART:20211107T070000
END:STANDARD
BEGIN:DAYLIGHT
TZOFFSETFROM:-0600
TZOFFSETTO:-0500
TZNAME:CDT
DTSTART:20220313T080000
END:DAYLIGHT
BEGIN:STANDARD
TZOFFSETFROM:-0500
TZOFFSETTO:-0600
TZNAME:CST
DTSTART:20221106T070000
END:STANDARD
BEGIN:DAYLIGHT
TZOFFSETFROM:-0600
TZOFFSETTO:-0500
TZNAME:CDT
DTSTART:20230312T080000
END:DAYLIGHT
BEGIN:STANDARD
TZOFFSETFROM:-0500
TZOFFSETTO:-0600
TZNAME:CST
DTSTART:20231105T070000
END:STANDARD
BEGIN:DAYLIGHT
TZOFFSETFROM:-0600
TZOFFSETTO:-0500
TZNAME:CDT
DTSTART:20240310T080000
END:DAYLIGHT
BEGIN:STANDARD
TZOFFSETFROM:-0500
TZOFFSETTO:-0600
TZNAME:CST
DTSTART:20241103T070000
END:STANDARD
BEGIN:DAYLIGHT
TZOFFSETFROM:-0600
TZOFFSETTO:-0500
TZNAME:CDT
DTSTART:20250309T080000
END:DAYLIGHT
BEGIN:STANDARD
TZOFFSETFROM:-0500
TZOFFSETTO:-0600
TZNAME:CST
DTSTART:20251102T070000
END:STANDARD
BEGIN:DAYLIGHT
TZOFFSETFROM:-0600
TZOFFSETTO:-0500
TZNAME:CDT
DTSTART:20260308T080000
END:DAYLIGHT
BEGIN:STANDARD
TZOFFSETFROM:-0500
TZOFFSETTO:-0600
TZNAME:CST
DTSTART:20261101T070000
END:STANDARD
BEGIN:DAYLIGHT
TZOFFSETFROM:-0600
TZOFFSETTO:-0500
TZNAME:CDT
DTSTART:20270314T080000
END:DAYLIGHT
BEGIN:STANDARD
TZOFFSETFROM:-0500
TZOFFSETTO:-0600
TZNAME:CST
DTSTART:20271107T070000
END:STANDARD
END:VTIMEZONE
BEGIN:VEVENT
DTSTART;TZID=America/Chicago:20260408T140000
DTEND;TZID=America/Chicago:20260408T160000
DTSTAMP:20260422T104244
CREATED:20251104T153641Z
LAST-MODIFIED:20251201T184517Z
UID:10001864-1775656800-1775664000@neighborhoodhousemn.org
SUMMARY:Winter Fresh Produce Distribution - Metropolitan State University
DESCRIPTION:Visit Neighborhood House’s Fresh Produce Distributions at Metro State University for FREE produce all winter long! Events are farmer’s market style and offer a diverse variety of fruits and vegetables. \nAll are welcome!
URL:https://neighborhoodhousemn.org/event/winter-fresh-produce-distribution-metropolitan-state-university/2026-04-08/
LOCATION:Metropolitan State University\, 101 690 E 7th St\, St Paul\, MN\, 55106\, United States
CATEGORIES:Food Support
ATTACH;FMTTYPE=image/jpeg:https://neighborhoodhousemn.org/wp-content/uploads/2025/11/20250717_NeighborhoodHouse_Food_RS_067-X2-1.jpg
END:VEVENT
BEGIN:VEVENT
DTSTART;TZID=America/Chicago:20260311T143000
DTEND;TZID=America/Chicago:20260311T160000
DTSTAMP:20260422T104244
CREATED:20251104T153641Z
LAST-MODIFIED:20251201T184517Z
UID:10001863-1773239400-1773244800@neighborhoodhousemn.org
SUMMARY:Winter Fresh Produce Distribution - Metropolitan State University
DESCRIPTION:Visit Neighborhood House’s Fresh Produce Distributions at Metro State University for FREE produce all winter long! Events are farmer’s market style and offer a diverse variety of fruits and vegetables. \nAll are welcome!
URL:https://neighborhoodhousemn.org/event/winter-fresh-produce-distribution-metropolitan-state-university/2026-03-11/
LOCATION:Metropolitan State University\, 101 690 E 7th St\, St Paul\, MN\, 55106\, United States
CATEGORIES:Food Support
ATTACH;FMTTYPE=image/jpeg:https://neighborhoodhousemn.org/wp-content/uploads/2025/11/20250717_NeighborhoodHouse_Food_RS_067-X2-1.jpg
END:VEVENT
BEGIN:VEVENT
DTSTART;TZID=America/Chicago:20260211T143000
DTEND;TZID=America/Chicago:20260211T160000
DTSTAMP:20260422T104244
CREATED:20251104T153641Z
LAST-MODIFIED:20251201T184517Z
UID:10001862-1770820200-1770825600@neighborhoodhousemn.org
SUMMARY:Winter Fresh Produce Distribution - Metropolitan State University
DESCRIPTION:Visit Neighborhood House’s Fresh Produce Distributions at Metro State University for FREE produce all winter long! Events are farmer’s market style and offer a diverse variety of fruits and vegetables. \nAll are welcome!
URL:https://neighborhoodhousemn.org/event/winter-fresh-produce-distribution-metropolitan-state-university/2026-02-11/
LOCATION:Metropolitan State University\, 101 690 E 7th St\, St Paul\, MN\, 55106\, United States
CATEGORIES:Food Support
ATTACH;FMTTYPE=image/jpeg:https://neighborhoodhousemn.org/wp-content/uploads/2025/11/20250717_NeighborhoodHouse_Food_RS_067-X2-1.jpg
END:VEVENT
BEGIN:VEVENT
DTSTART;TZID=America/Chicago:20260114T143000
DTEND;TZID=America/Chicago:20260114T160000
DTSTAMP:20260422T104244
CREATED:20251104T153641Z
LAST-MODIFIED:20251201T184517Z
UID:10001861-1768401000-1768406400@neighborhoodhousemn.org
SUMMARY:Winter Fresh Produce Distribution - Metropolitan State University
DESCRIPTION:Visit Neighborhood House’s Fresh Produce Distributions at Metro State University for FREE produce all winter long! Events are farmer’s market style and offer a diverse variety of fruits and vegetables. \nAll are welcome!
URL:https://neighborhoodhousemn.org/event/winter-fresh-produce-distribution-metropolitan-state-university/2026-01-14/
LOCATION:Metropolitan State University\, 101 690 E 7th St\, St Paul\, MN\, 55106\, United States
CATEGORIES:Food Support
ATTACH;FMTTYPE=image/jpeg:https://neighborhoodhousemn.org/wp-content/uploads/2025/11/20250717_NeighborhoodHouse_Food_RS_067-X2-1.jpg
END:VEVENT
BEGIN:VEVENT
DTSTART;TZID=America/Chicago:20251217T143000
DTEND;TZID=America/Chicago:20251217T163000
DTSTAMP:20260422T104244
CREATED:20251201T184351Z
LAST-MODIFIED:20251201T184351Z
UID:10001882-1765981800-1765989000@neighborhoodhousemn.org
SUMMARY:Wellstone Center CLOSED for Winter Fresh Produce Distribution – Metropolitan State University
DESCRIPTION:
URL:https://neighborhoodhousemn.org/event/wellstone-center-closed-for-winter-fresh-produce-distribution-metropolitan-state-university/
LOCATION:Metropolitan State University\, 101 690 E 7th St\, St Paul\, MN\, 55106\, United States
END:VEVENT
BEGIN:VEVENT
DTSTART;TZID=America/Chicago:20250514T143000
DTEND;TZID=America/Chicago:20250514T160000
DTSTAMP:20260422T104244
CREATED:20241014T201822Z
LAST-MODIFIED:20241120T145142Z
UID:10001784-1747233000-1747238400@neighborhoodhousemn.org
SUMMARY:Fresh Produce Distribution
DESCRIPTION:(November – May) take place at Metro State University in St. Paul. During each event\, we distribute approximately 3\,000 pounds of food to approximately 75-100 families on average. \nFor additional questions about the Food Markets\, please visit our Frequently Asked Questions page. \n\n\n\n\n\n\nEvent guideline and details: Our fresh produce events are open to everyone! \n\nRequirements: Not a thing\, just yourself. An identification is not required to attend.\nRecommendations: You will want to bring your own bags and a cart if you have one.\nCOVID-19: This event is held indoors\, masks are encouraged.\nPlease note that your fist visit will require an onsite registration process that will take 5-10 minutes to complete.\nParking: You can park in the Metro State ramp parking for $5. Otherwise\, street parking is available along 7th St. and Bates Avenue.\nIf available\, please consider brining your own reusable bags. On average our visitors take home around 40 pounds of food
URL:https://neighborhoodhousemn.org/event/fresh-produce-distribution/2025-05-14/
LOCATION:Metropolitan State University\, 101 690 E 7th St\, St Paul\, MN\, 55106\, United States
CATEGORIES:Food Support
END:VEVENT
BEGIN:VEVENT
DTSTART;TZID=America/Chicago:20250409T143000
DTEND;TZID=America/Chicago:20250409T160000
DTSTAMP:20260422T104244
CREATED:20241014T201822Z
LAST-MODIFIED:20241120T145142Z
UID:10001783-1744209000-1744214400@neighborhoodhousemn.org
SUMMARY:Fresh Produce Distribution
DESCRIPTION:(November – May) take place at Metro State University in St. Paul. During each event\, we distribute approximately 3\,000 pounds of food to approximately 75-100 families on average. \nFor additional questions about the Food Markets\, please visit our Frequently Asked Questions page. \n\n\n\n\n\n\nEvent guideline and details: Our fresh produce events are open to everyone! \n\nRequirements: Not a thing\, just yourself. An identification is not required to attend.\nRecommendations: You will want to bring your own bags and a cart if you have one.\nCOVID-19: This event is held indoors\, masks are encouraged.\nPlease note that your fist visit will require an onsite registration process that will take 5-10 minutes to complete.\nParking: You can park in the Metro State ramp parking for $5. Otherwise\, street parking is available along 7th St. and Bates Avenue.\nIf available\, please consider brining your own reusable bags. On average our visitors take home around 40 pounds of food
URL:https://neighborhoodhousemn.org/event/fresh-produce-distribution/2025-04-09/
LOCATION:Metropolitan State University\, 101 690 E 7th St\, St Paul\, MN\, 55106\, United States
CATEGORIES:Food Support
END:VEVENT
BEGIN:VEVENT
DTSTART;TZID=America/Chicago:20250312T143000
DTEND;TZID=America/Chicago:20250312T160000
DTSTAMP:20260422T104244
CREATED:20241014T201822Z
LAST-MODIFIED:20241120T145142Z
UID:10001782-1741789800-1741795200@neighborhoodhousemn.org
SUMMARY:Fresh Produce Distribution
DESCRIPTION:(November – May) take place at Metro State University in St. Paul. During each event\, we distribute approximately 3\,000 pounds of food to approximately 75-100 families on average. \nFor additional questions about the Food Markets\, please visit our Frequently Asked Questions page. \n\n\n\n\n\n\nEvent guideline and details: Our fresh produce events are open to everyone! \n\nRequirements: Not a thing\, just yourself. An identification is not required to attend.\nRecommendations: You will want to bring your own bags and a cart if you have one.\nCOVID-19: This event is held indoors\, masks are encouraged.\nPlease note that your fist visit will require an onsite registration process that will take 5-10 minutes to complete.\nParking: You can park in the Metro State ramp parking for $5. Otherwise\, street parking is available along 7th St. and Bates Avenue.\nIf available\, please consider brining your own reusable bags. On average our visitors take home around 40 pounds of food
URL:https://neighborhoodhousemn.org/event/fresh-produce-distribution/2025-03-12/
LOCATION:Metropolitan State University\, 101 690 E 7th St\, St Paul\, MN\, 55106\, United States
CATEGORIES:Food Support
END:VEVENT
BEGIN:VEVENT
DTSTART;TZID=America/Chicago:20250212T143000
DTEND;TZID=America/Chicago:20250212T160000
DTSTAMP:20260422T104244
CREATED:20241014T201822Z
LAST-MODIFIED:20241120T145142Z
UID:10001781-1739370600-1739376000@neighborhoodhousemn.org
SUMMARY:Fresh Produce Distribution
DESCRIPTION:(November – May) take place at Metro State University in St. Paul. During each event\, we distribute approximately 3\,000 pounds of food to approximately 75-100 families on average. \nFor additional questions about the Food Markets\, please visit our Frequently Asked Questions page. \n\n\n\n\n\n\nEvent guideline and details: Our fresh produce events are open to everyone! \n\nRequirements: Not a thing\, just yourself. An identification is not required to attend.\nRecommendations: You will want to bring your own bags and a cart if you have one.\nCOVID-19: This event is held indoors\, masks are encouraged.\nPlease note that your fist visit will require an onsite registration process that will take 5-10 minutes to complete.\nParking: You can park in the Metro State ramp parking for $5. Otherwise\, street parking is available along 7th St. and Bates Avenue.\nIf available\, please consider brining your own reusable bags. On average our visitors take home around 40 pounds of food
URL:https://neighborhoodhousemn.org/event/fresh-produce-distribution/2025-02-12/
LOCATION:Metropolitan State University\, 101 690 E 7th St\, St Paul\, MN\, 55106\, United States
CATEGORIES:Food Support
END:VEVENT
BEGIN:VEVENT
DTSTART;TZID=America/Chicago:20250108T143000
DTEND;TZID=America/Chicago:20250108T160000
DTSTAMP:20260422T104244
CREATED:20241014T201822Z
LAST-MODIFIED:20241120T145142Z
UID:10001780-1736346600-1736352000@neighborhoodhousemn.org
SUMMARY:Fresh Produce Distribution
DESCRIPTION:(November – May) take place at Metro State University in St. Paul. During each event\, we distribute approximately 3\,000 pounds of food to approximately 75-100 families on average. \nFor additional questions about the Food Markets\, please visit our Frequently Asked Questions page. \n\n\n\n\n\n\nEvent guideline and details: Our fresh produce events are open to everyone! \n\nRequirements: Not a thing\, just yourself. An identification is not required to attend.\nRecommendations: You will want to bring your own bags and a cart if you have one.\nCOVID-19: This event is held indoors\, masks are encouraged.\nPlease note that your fist visit will require an onsite registration process that will take 5-10 minutes to complete.\nParking: You can park in the Metro State ramp parking for $5. Otherwise\, street parking is available along 7th St. and Bates Avenue.\nIf available\, please consider brining your own reusable bags. On average our visitors take home around 40 pounds of food
URL:https://neighborhoodhousemn.org/event/fresh-produce-distribution/2025-01-08/
LOCATION:Metropolitan State University\, 101 690 E 7th St\, St Paul\, MN\, 55106\, United States
CATEGORIES:Food Support
END:VEVENT
BEGIN:VEVENT
DTSTART;TZID=America/Chicago:20241218T143000
DTEND;TZID=America/Chicago:20241218T160000
DTSTAMP:20260422T104244
CREATED:20241014T201822Z
LAST-MODIFIED:20241120T145142Z
UID:10001779-1734532200-1734537600@neighborhoodhousemn.org
SUMMARY:Fresh Produce Distribution
DESCRIPTION:(November – May) take place at Metro State University in St. Paul. During each event\, we distribute approximately 3\,000 pounds of food to approximately 75-100 families on average. \nFor additional questions about the Food Markets\, please visit our Frequently Asked Questions page. \n\n\n\n\n\n\nEvent guideline and details: Our fresh produce events are open to everyone! \n\nRequirements: Not a thing\, just yourself. An identification is not required to attend.\nRecommendations: You will want to bring your own bags and a cart if you have one.\nCOVID-19: This event is held indoors\, masks are encouraged.\nPlease note that your fist visit will require an onsite registration process that will take 5-10 minutes to complete.\nParking: You can park in the Metro State ramp parking for $5. Otherwise\, street parking is available along 7th St. and Bates Avenue.\nIf available\, please consider brining your own reusable bags. On average our visitors take home around 40 pounds of food
URL:https://neighborhoodhousemn.org/event/fresh-produce-distribution/2024-12-18/
LOCATION:Metropolitan State University\, 101 690 E 7th St\, St Paul\, MN\, 55106\, United States
CATEGORIES:Food Support
END:VEVENT
BEGIN:VEVENT
DTSTART;TZID=America/Chicago:20240508T143000
DTEND;TZID=America/Chicago:20240508T160000
DTSTAMP:20260422T104244
CREATED:20240411T153226Z
LAST-MODIFIED:20240411T153227Z
UID:10001729-1715178600-1715184000@neighborhoodhousemn.org
SUMMARY:Winter/Spring Fresh Produce Events
DESCRIPTION:Winter / Spring Fresh Produce Distributions Events*\n\n\n\n\n\n(November – May) take place at Metro State University in St. Paul. During each event\, we distribute approximately 3\,000 pounds of food to approximately 75-100 families on average. \nFor additional questions about the Food Markets\, please visit our Frequently Asked Questions page. \n\n\n\n\n\n\nEvent guideline and details: Our fresh produce events are open to everyone! \n\nRequirements: Not a thing\, just yourself. An identification is not required to attend.\nRecommendations: You will want to bring your own bags and a cart if you have one.\nCOVID-19: This event is held indoors\, masks are encouraged.\nPlease note that your fist visit will require an onsite registration process that will take 5-10 minutes to complete.\nParking: You can park in the Metro State ramp parking for $5. Otherwise\, street parking is available along 7th St. and Bates Avenue.\nIf available\, please consider brining your own reusable bags. On average our visitors take home around 40 pounds of food.\n\n\n\n\n\n\n\n\nLocation\n\n\n\n\n\nMETROPOLITAN STATE UNIVERSITY\n\n\n\n\n(STUDENT CENTER ROOM)\n101 690 E 7TH ST\nST. PAUL\, MN 55106 \n\n\n\n\n\n\nTIME – 2:30–4 P.M. \nDATES – NOVEMBER 15\, 2023 | DECEMBER 13\, 2023 \nJANUARY 10\, 2024 | FEBRUARY 14\, 2024 | MARCH 13\, 2024 | APRIL 10\, 2024 | MAY 8\, 2024 \n\n\n\n\n\n\n\n\n* Weather permitting – If there are thunderstorms or excessive heat warnings\, we may cancel the event and / or events. For more information and event cancellation updates\, please call (651) 789-3630. \nStill have questions? Kindly email Kaitlin Lee\, Fresh Produce Coordinator
URL:https://neighborhoodhousemn.org/event/winter-spring-fresh-produce-events/
LOCATION:Metropolitan State University\, 101 690 E 7th St\, St Paul\, MN\, 55106\, United States
ATTACH;FMTTYPE=image/jpeg:https://neighborhoodhousemn.org/wp-content/uploads/NH-Food-Support-11.jpg
END:VEVENT
BEGIN:VEVENT
DTSTART;TZID=America/Chicago:20231115T143000
DTEND;TZID=America/Chicago:20231115T160000
DTSTAMP:20260422T104244
CREATED:20231019T200331Z
LAST-MODIFIED:20231019T200452Z
UID:10001681-1700058600-1700064000@neighborhoodhousemn.org
SUMMARY:Winter Fresh Produce Distribution - 2023
DESCRIPTION:From November through May\, you are welcome to pick up a variety of free fruits and vegetables for your household at Metropolitan State University. The distributions are held indoors and are farmer’s market style. Events are open to all. No documentation or identification is required to participate. Please expect a brief check-in process when you arrive and bring your own large\, reusable bags or carts if possible.
URL:https://neighborhoodhousemn.org/event/winter-fresh-produce-distribution-2023-2/
LOCATION:Metropolitan State University\, 101 690 E 7th St\, St Paul\, MN\, 55106\, United States
CATEGORIES:Food Support
ATTACH;FMTTYPE=image/jpeg:https://neighborhoodhousemn.org/wp-content/uploads/Winter-Fresh-Produce-22-23.jpg
END:VEVENT
BEGIN:VEVENT
DTSTART;TZID=America/Chicago:20230510T143000
DTEND;TZID=America/Chicago:20230510T160000
DTSTAMP:20260422T104244
CREATED:20221129T201544Z
LAST-MODIFIED:20221129T201640Z
UID:10001429-1683729000-1683734400@neighborhoodhousemn.org
SUMMARY:Winter Fresh Produce Distribution
DESCRIPTION:WINTER Fresh Produce Distribution  \nNeighborhood House | 179 Robie Street East\, St. Paul\, MN 55107 | 651.789.2500 \nJoin Neighborhood House at Metropolitan State University\nAddress: (Student Center Room) 101 690 E 7th St\, St Paul\, MN 55106\n2:30 – 4:00 p.m. \nNovember 9th\, 2022 | December 7th\, 2022\nJanuary 11th\, 2023 | February 8th\, 2023\nMarch 8th\, 2023 | April 12th\, 2023\nMay 10th\, 2023 \nStop by for FREE fresh fruits and vegetables all winter long! \nEligibility: Our Fresh Produce events are open to everyone! \nRequirements: Nothing\, just yourself. ID is not required to attend. \nRecommendations: You will want to bring your own bags and a cart if you have one. Covid-19: This event is held indoors\, masks are encouraged. \nOther: Please note\, your fist visit will require an onsite registration process that will take 5-10 minutes to complete. \nParking: You can park in the Metro State ramp parking for $5. Otherwise\,\nstreet parking is available along 7th St. and Bates Ave. \nWeather Permitting – If there is winter storm or severe winter weather warning\, we may cancel the event. Please visit our website the day of the event to make sure the event is not cancelled before arriving.
URL:https://neighborhoodhousemn.org/event/winter-fresh-produce-distribution-2/2023-05-10/
LOCATION:Metropolitan State University\, 101 690 E 7th St\, St Paul\, MN\, 55106\, United States
ATTACH;FMTTYPE=image/jpeg:https://neighborhoodhousemn.org/wp-content/uploads/Winter-Fresh-Produce-22-23.jpg
END:VEVENT
BEGIN:VEVENT
DTSTART;TZID=America/Chicago:20230412T143000
DTEND;TZID=America/Chicago:20230412T160000
DTSTAMP:20260422T104244
CREATED:20221129T201544Z
LAST-MODIFIED:20221129T201640Z
UID:10001428-1681309800-1681315200@neighborhoodhousemn.org
SUMMARY:Winter Fresh Produce Distribution
DESCRIPTION:WINTER Fresh Produce Distribution  \nNeighborhood House | 179 Robie Street East\, St. Paul\, MN 55107 | 651.789.2500 \nJoin Neighborhood House at Metropolitan State University\nAddress: (Student Center Room) 101 690 E 7th St\, St Paul\, MN 55106\n2:30 – 4:00 p.m. \nNovember 9th\, 2022 | December 7th\, 2022\nJanuary 11th\, 2023 | February 8th\, 2023\nMarch 8th\, 2023 | April 12th\, 2023\nMay 10th\, 2023 \nStop by for FREE fresh fruits and vegetables all winter long! \nEligibility: Our Fresh Produce events are open to everyone! \nRequirements: Nothing\, just yourself. ID is not required to attend. \nRecommendations: You will want to bring your own bags and a cart if you have one. Covid-19: This event is held indoors\, masks are encouraged. \nOther: Please note\, your fist visit will require an onsite registration process that will take 5-10 minutes to complete. \nParking: You can park in the Metro State ramp parking for $5. Otherwise\,\nstreet parking is available along 7th St. and Bates Ave. \nWeather Permitting – If there is winter storm or severe winter weather warning\, we may cancel the event. Please visit our website the day of the event to make sure the event is not cancelled before arriving.
URL:https://neighborhoodhousemn.org/event/winter-fresh-produce-distribution-2/2023-04-12/
LOCATION:Metropolitan State University\, 101 690 E 7th St\, St Paul\, MN\, 55106\, United States
ATTACH;FMTTYPE=image/jpeg:https://neighborhoodhousemn.org/wp-content/uploads/Winter-Fresh-Produce-22-23.jpg
END:VEVENT
BEGIN:VEVENT
DTSTART;TZID=America/Chicago:20230308T143000
DTEND;TZID=America/Chicago:20230308T160000
DTSTAMP:20260422T104244
CREATED:20221129T201544Z
LAST-MODIFIED:20221129T201640Z
UID:10001427-1678285800-1678291200@neighborhoodhousemn.org
SUMMARY:Winter Fresh Produce Distribution
DESCRIPTION:WINTER Fresh Produce Distribution  \nNeighborhood House | 179 Robie Street East\, St. Paul\, MN 55107 | 651.789.2500 \nJoin Neighborhood House at Metropolitan State University\nAddress: (Student Center Room) 101 690 E 7th St\, St Paul\, MN 55106\n2:30 – 4:00 p.m. \nNovember 9th\, 2022 | December 7th\, 2022\nJanuary 11th\, 2023 | February 8th\, 2023\nMarch 8th\, 2023 | April 12th\, 2023\nMay 10th\, 2023 \nStop by for FREE fresh fruits and vegetables all winter long! \nEligibility: Our Fresh Produce events are open to everyone! \nRequirements: Nothing\, just yourself. ID is not required to attend. \nRecommendations: You will want to bring your own bags and a cart if you have one. Covid-19: This event is held indoors\, masks are encouraged. \nOther: Please note\, your fist visit will require an onsite registration process that will take 5-10 minutes to complete. \nParking: You can park in the Metro State ramp parking for $5. Otherwise\,\nstreet parking is available along 7th St. and Bates Ave. \nWeather Permitting – If there is winter storm or severe winter weather warning\, we may cancel the event. Please visit our website the day of the event to make sure the event is not cancelled before arriving.
URL:https://neighborhoodhousemn.org/event/winter-fresh-produce-distribution-2/2023-03-08/
LOCATION:Metropolitan State University\, 101 690 E 7th St\, St Paul\, MN\, 55106\, United States
ATTACH;FMTTYPE=image/jpeg:https://neighborhoodhousemn.org/wp-content/uploads/Winter-Fresh-Produce-22-23.jpg
END:VEVENT
BEGIN:VEVENT
DTSTART;TZID=America/Chicago:20230208T143000
DTEND;TZID=America/Chicago:20230208T160000
DTSTAMP:20260422T104244
CREATED:20221129T201544Z
LAST-MODIFIED:20221129T201640Z
UID:10001426-1675866600-1675872000@neighborhoodhousemn.org
SUMMARY:Winter Fresh Produce Distribution
DESCRIPTION:WINTER Fresh Produce Distribution  \nNeighborhood House | 179 Robie Street East\, St. Paul\, MN 55107 | 651.789.2500 \nJoin Neighborhood House at Metropolitan State University\nAddress: (Student Center Room) 101 690 E 7th St\, St Paul\, MN 55106\n2:30 – 4:00 p.m. \nNovember 9th\, 2022 | December 7th\, 2022\nJanuary 11th\, 2023 | February 8th\, 2023\nMarch 8th\, 2023 | April 12th\, 2023\nMay 10th\, 2023 \nStop by for FREE fresh fruits and vegetables all winter long! \nEligibility: Our Fresh Produce events are open to everyone! \nRequirements: Nothing\, just yourself. ID is not required to attend. \nRecommendations: You will want to bring your own bags and a cart if you have one. Covid-19: This event is held indoors\, masks are encouraged. \nOther: Please note\, your fist visit will require an onsite registration process that will take 5-10 minutes to complete. \nParking: You can park in the Metro State ramp parking for $5. Otherwise\,\nstreet parking is available along 7th St. and Bates Ave. \nWeather Permitting – If there is winter storm or severe winter weather warning\, we may cancel the event. Please visit our website the day of the event to make sure the event is not cancelled before arriving.
URL:https://neighborhoodhousemn.org/event/winter-fresh-produce-distribution-2/2023-02-08/
LOCATION:Metropolitan State University\, 101 690 E 7th St\, St Paul\, MN\, 55106\, United States
ATTACH;FMTTYPE=image/jpeg:https://neighborhoodhousemn.org/wp-content/uploads/Winter-Fresh-Produce-22-23.jpg
END:VEVENT
BEGIN:VEVENT
DTSTART;TZID=America/Chicago:20230111T143000
DTEND;TZID=America/Chicago:20230111T160000
DTSTAMP:20260422T104244
CREATED:20221129T201544Z
LAST-MODIFIED:20221129T201640Z
UID:10001425-1673447400-1673452800@neighborhoodhousemn.org
SUMMARY:Winter Fresh Produce Distribution
DESCRIPTION:WINTER Fresh Produce Distribution  \nNeighborhood House | 179 Robie Street East\, St. Paul\, MN 55107 | 651.789.2500 \nJoin Neighborhood House at Metropolitan State University\nAddress: (Student Center Room) 101 690 E 7th St\, St Paul\, MN 55106\n2:30 – 4:00 p.m. \nNovember 9th\, 2022 | December 7th\, 2022\nJanuary 11th\, 2023 | February 8th\, 2023\nMarch 8th\, 2023 | April 12th\, 2023\nMay 10th\, 2023 \nStop by for FREE fresh fruits and vegetables all winter long! \nEligibility: Our Fresh Produce events are open to everyone! \nRequirements: Nothing\, just yourself. ID is not required to attend. \nRecommendations: You will want to bring your own bags and a cart if you have one. Covid-19: This event is held indoors\, masks are encouraged. \nOther: Please note\, your fist visit will require an onsite registration process that will take 5-10 minutes to complete. \nParking: You can park in the Metro State ramp parking for $5. Otherwise\,\nstreet parking is available along 7th St. and Bates Ave. \nWeather Permitting – If there is winter storm or severe winter weather warning\, we may cancel the event. Please visit our website the day of the event to make sure the event is not cancelled before arriving.
URL:https://neighborhoodhousemn.org/event/winter-fresh-produce-distribution-2/2023-01-11/
LOCATION:Metropolitan State University\, 101 690 E 7th St\, St Paul\, MN\, 55106\, United States
ATTACH;FMTTYPE=image/jpeg:https://neighborhoodhousemn.org/wp-content/uploads/Winter-Fresh-Produce-22-23.jpg
END:VEVENT
BEGIN:VEVENT
DTSTART;TZID=America/Chicago:20221207T143000
DTEND;TZID=America/Chicago:20221207T160000
DTSTAMP:20260422T104244
CREATED:20221129T201544Z
LAST-MODIFIED:20221129T201640Z
UID:10001424-1670423400-1670428800@neighborhoodhousemn.org
SUMMARY:Winter Fresh Produce Distribution
DESCRIPTION:WINTER Fresh Produce Distribution  \nNeighborhood House | 179 Robie Street East\, St. Paul\, MN 55107 | 651.789.2500 \nJoin Neighborhood House at Metropolitan State University\nAddress: (Student Center Room) 101 690 E 7th St\, St Paul\, MN 55106\n2:30 – 4:00 p.m. \nNovember 9th\, 2022 | December 7th\, 2022\nJanuary 11th\, 2023 | February 8th\, 2023\nMarch 8th\, 2023 | April 12th\, 2023\nMay 10th\, 2023 \nStop by for FREE fresh fruits and vegetables all winter long! \nEligibility: Our Fresh Produce events are open to everyone! \nRequirements: Nothing\, just yourself. ID is not required to attend. \nRecommendations: You will want to bring your own bags and a cart if you have one. Covid-19: This event is held indoors\, masks are encouraged. \nOther: Please note\, your fist visit will require an onsite registration process that will take 5-10 minutes to complete. \nParking: You can park in the Metro State ramp parking for $5. Otherwise\,\nstreet parking is available along 7th St. and Bates Ave. \nWeather Permitting – If there is winter storm or severe winter weather warning\, we may cancel the event. Please visit our website the day of the event to make sure the event is not cancelled before arriving.
URL:https://neighborhoodhousemn.org/event/winter-fresh-produce-distribution-2/2022-12-07/
LOCATION:Metropolitan State University\, 101 690 E 7th St\, St Paul\, MN\, 55106\, United States
ATTACH;FMTTYPE=image/jpeg:https://neighborhoodhousemn.org/wp-content/uploads/Winter-Fresh-Produce-22-23.jpg
END:VEVENT
END:VCALENDAR