BEGIN:VCALENDAR
VERSION:2.0
PRODID:-//Neighborhood House - ECPv6.15.20//NONSGML v1.0//EN
CALSCALE:GREGORIAN
METHOD:PUBLISH
X-ORIGINAL-URL:https://neighborhoodhousemn.org
X-WR-CALDESC:Events for Neighborhood House
REFRESH-INTERVAL;VALUE=DURATION:PT1H
X-Robots-Tag:noindex
X-PUBLISHED-TTL:PT1H
BEGIN:VTIMEZONE
TZID:America/Chicago
BEGIN:DAYLIGHT
TZOFFSETFROM:-0600
TZOFFSETTO:-0500
TZNAME:CDT
DTSTART:20230312T080000
END:DAYLIGHT
BEGIN:STANDARD
TZOFFSETFROM:-0500
TZOFFSETTO:-0600
TZNAME:CST
DTSTART:20231105T070000
END:STANDARD
BEGIN:DAYLIGHT
TZOFFSETFROM:-0600
TZOFFSETTO:-0500
TZNAME:CDT
DTSTART:20240310T080000
END:DAYLIGHT
BEGIN:STANDARD
TZOFFSETFROM:-0500
TZOFFSETTO:-0600
TZNAME:CST
DTSTART:20241103T070000
END:STANDARD
BEGIN:DAYLIGHT
TZOFFSETFROM:-0600
TZOFFSETTO:-0500
TZNAME:CDT
DTSTART:20250309T080000
END:DAYLIGHT
BEGIN:STANDARD
TZOFFSETFROM:-0500
TZOFFSETTO:-0600
TZNAME:CST
DTSTART:20251102T070000
END:STANDARD
END:VTIMEZONE
BEGIN:VEVENT
DTSTART;TZID=America/Chicago:20240323T120000
DTEND;TZID=America/Chicago:20240323T160000
DTSTAMP:20260424T080329
CREATED:20240229T211015Z
LAST-MODIFIED:20240229T211016Z
UID:10001726-1711195200-1711209600@neighborhoodhousemn.org
SUMMARY:March Food Drive - Stuff the Truck
DESCRIPTION:March 23 – Stuff the Truck Food Drive & Tasting Event @ Dabbler Depot\nWe’ll be “stuffing the truck” with food donations for our two free food markets in St. Paul and celebrating with beer\, wine and spirit tastings\, a food truck\, fire pits!\nNoon – 4 PM \n  \n2024-MFD-Food-Support-Wish-List \n  \n 
URL:https://neighborhoodhousemn.org/event/march-food-drive-stuff-the-truck/
LOCATION:Dabbler Depot\, 1545 7th St W Suite #100\, St Paul\, MN\, 55102
CATEGORIES:Community Events
ATTACH;FMTTYPE=image/png:https://neighborhoodhousemn.org/wp-content/uploads/stuff-the-truck-flyer.png
END:VEVENT
END:VCALENDAR