BEGIN:VCALENDAR
VERSION:2.0
PRODID:-//Neighborhood House - ECPv6.15.20//NONSGML v1.0//EN
CALSCALE:GREGORIAN
METHOD:PUBLISH
X-ORIGINAL-URL:https://neighborhoodhousemn.org
X-WR-CALDESC:Events for Neighborhood House
REFRESH-INTERVAL;VALUE=DURATION:PT1H
X-Robots-Tag:noindex
X-PUBLISHED-TTL:PT1H
BEGIN:VTIMEZONE
TZID:America/Chicago
BEGIN:DAYLIGHT
TZOFFSETFROM:-0600
TZOFFSETTO:-0500
TZNAME:CDT
DTSTART:20240310T080000
END:DAYLIGHT
BEGIN:STANDARD
TZOFFSETFROM:-0500
TZOFFSETTO:-0600
TZNAME:CST
DTSTART:20241103T070000
END:STANDARD
BEGIN:DAYLIGHT
TZOFFSETFROM:-0600
TZOFFSETTO:-0500
TZNAME:CDT
DTSTART:20250309T080000
END:DAYLIGHT
BEGIN:STANDARD
TZOFFSETFROM:-0500
TZOFFSETTO:-0600
TZNAME:CST
DTSTART:20251102T070000
END:STANDARD
BEGIN:DAYLIGHT
TZOFFSETFROM:-0600
TZOFFSETTO:-0500
TZNAME:CDT
DTSTART:20260308T080000
END:DAYLIGHT
BEGIN:STANDARD
TZOFFSETFROM:-0500
TZOFFSETTO:-0600
TZNAME:CST
DTSTART:20261101T070000
END:STANDARD
END:VTIMEZONE
BEGIN:VEVENT
DTSTART;TZID=America/Chicago:20250308T093000
DTEND;TZID=America/Chicago:20250308T120000
DTSTAMP:20260425T223016
CREATED:20250205T000740Z
LAST-MODIFIED:20250206T151731Z
UID:10001799-1741426200-1741435200@neighborhoodhousemn.org
SUMMARY:(2nd) Saturday Shopping
DESCRIPTION:Our Wellstone Center Food Market is open the second Saturday of each month. \nNo appointment needed\, first come first served!
URL:https://neighborhoodhousemn.org/event/2nd-saturday-shopping/2025-03-08/
LOCATION:Wellstone Center\, 179 Robie Street E\, Saint Paul\, MN\, 55107\, United States
CATEGORIES:Food Support
END:VEVENT
BEGIN:VEVENT
DTSTART;TZID=America/Chicago:20250308T100000
DTEND;TZID=America/Chicago:20250308T130000
DTSTAMP:20260425T223016
CREATED:20250303T174711Z
LAST-MODIFIED:20260205T020412Z
UID:10001811-1741428000-1741438800@neighborhoodhousemn.org
SUMMARY:March Food Drive - Mississippi Market Saturday
DESCRIPTION:Join us at any Mississippi Market location on Saturday\, March 8\, to fight hunger in our community. Learn about Neighborhood House from staff and volunteers and donate food and funds for our March Food Drive! \nMississippi Market Co-op locations:\nWest 7th\n1500 West 7th Street\nSaint Paul\, MN 55102 \nSelby\n622 Selby Avenue\nSaint Paul\, MN 55104 \nEast 7th\n740 East 7th Street\nSaint Paul\, MN 55106
URL:https://neighborhoodhousemn.org/event/march-food-drive-2025-mississippi-market/
CATEGORIES:Community Events
END:VEVENT
BEGIN:VEVENT
DTSTART;TZID=America/Chicago:20250312T130000
DTEND;TZID=America/Chicago:20250312T160000
DTSTAMP:20260425T223016
CREATED:20241209T195357Z
LAST-MODIFIED:20241209T195357Z
UID:10001789-1741784400-1741795200@neighborhoodhousemn.org
SUMMARY:Wellstone Center Food Market CLOSED 1 – 4 p.m.
DESCRIPTION:The Wellstone Center Food Market will be closed from 1 to 4 p.m. so that our team can support the Fresh Produce Distribution event at Metro State.
URL:https://neighborhoodhousemn.org/event/wellstone-center-food-market-closed-1-4-p-m/2025-03-12/
CATEGORIES:Food Support
END:VEVENT
BEGIN:VEVENT
DTSTART;TZID=America/Chicago:20250312T143000
DTEND;TZID=America/Chicago:20250312T160000
DTSTAMP:20260425T223016
CREATED:20241014T201822Z
LAST-MODIFIED:20241120T145142Z
UID:10001782-1741789800-1741795200@neighborhoodhousemn.org
SUMMARY:Fresh Produce Distribution
DESCRIPTION:(November – May) take place at Metro State University in St. Paul. During each event\, we distribute approximately 3\,000 pounds of food to approximately 75-100 families on average. \nFor additional questions about the Food Markets\, please visit our Frequently Asked Questions page. \n\n\n\n\n\n\nEvent guideline and details: Our fresh produce events are open to everyone! \n\nRequirements: Not a thing\, just yourself. An identification is not required to attend.\nRecommendations: You will want to bring your own bags and a cart if you have one.\nCOVID-19: This event is held indoors\, masks are encouraged.\nPlease note that your fist visit will require an onsite registration process that will take 5-10 minutes to complete.\nParking: You can park in the Metro State ramp parking for $5. Otherwise\, street parking is available along 7th St. and Bates Avenue.\nIf available\, please consider brining your own reusable bags. On average our visitors take home around 40 pounds of food
URL:https://neighborhoodhousemn.org/event/fresh-produce-distribution/2025-03-12/
LOCATION:Metropolitan State University\, 101 690 E 7th St\, St Paul\, MN\, 55106\, United States
CATEGORIES:Food Support
END:VEVENT
BEGIN:VEVENT
DTSTART;TZID=America/Chicago:20250315T130000
DTEND;TZID=America/Chicago:20250315T170000
DTSTAMP:20260425T223016
CREATED:20250303T194354Z
LAST-MODIFIED:20250313T205614Z
UID:10001812-1742043600-1742058000@neighborhoodhousemn.org
SUMMARY:March Food Drive - Stuff the Truck
DESCRIPTION:Help us Stuff the Truck for Neighborhood House’s March Food Drive! Bring a donation of food to Summit Brewing on Saturday\, March 15\, from 1:00 p.m. to 5:00 p.m. Together\, we can help stock our free Food Markets to provide nutritious\, delicious food for our neighbors. Come to fight hunger and stay to celebrate our community with tasty brews\, a food truck\, fire pits\, and more! \nDownload our guide to donations here. \n 
URL:https://neighborhoodhousemn.org/event/march-food-drive-stuff-the-truck-2/
LOCATION:Summit Brewing Company\, 910 Montreal Cir\, St. Paul\, MN\, 55102
CATEGORIES:Community Events
END:VEVENT
BEGIN:VEVENT
DTSTART;TZID=America/Chicago:20250322T100000
DTEND;TZID=America/Chicago:20250322T140000
DTSTAMP:20260425T223016
CREATED:20250313T203821Z
LAST-MODIFIED:20250313T203821Z
UID:10001813-1742637600-1742652000@neighborhoodhousemn.org
SUMMARY:March Food Drive 2025: Grocery Store Weekend
DESCRIPTION:We’re collecting food and funds at four local grocery stores this weekend from 10:00 a.m.–2:00 p.m. both days! Download our Food Drive wish lists\, shop for your groceries\, and support our community this weekend at the following locations: \nKowalski’s on Grand\n1261 Grand Ave\, St Paul\, MN 55105\nDownload the Kowalskis on Grand Shopping List \nKowalski’s Woodbury\n8505 Valley Creek Rd\, Woodbury\, MN 55125\nDownload the Kowalskis Woodbury Grand Shopping List \nLunds & Byerly’s Highland\n2170 Ford Pkwy\, St Paul\, MN 55116\nDownload the Lunds and Byerlys Shopping List \nInver Grove Cub\n7850 Cahill Ave\, Inver Grove Heights\, MN 55076\nDownload the Cub Foods Shopping List
URL:https://neighborhoodhousemn.org/event/march-food-drive-2025-grocery-store-weekend/2025-03-22/
CATEGORIES:Community Events
END:VEVENT
BEGIN:VEVENT
DTSTART;TZID=America/Chicago:20250323T100000
DTEND;TZID=America/Chicago:20250323T140000
DTSTAMP:20260425T223016
CREATED:20250313T203821Z
LAST-MODIFIED:20250313T203821Z
UID:10001814-1742724000-1742738400@neighborhoodhousemn.org
SUMMARY:March Food Drive 2025: Grocery Store Weekend
DESCRIPTION:We’re collecting food and funds at four local grocery stores this weekend from 10:00 a.m.–2:00 p.m. both days! Download our Food Drive wish lists\, shop for your groceries\, and support our community this weekend at the following locations: \nKowalski’s on Grand\n1261 Grand Ave\, St Paul\, MN 55105\nDownload the Kowalskis on Grand Shopping List \nKowalski’s Woodbury\n8505 Valley Creek Rd\, Woodbury\, MN 55125\nDownload the Kowalskis Woodbury Grand Shopping List \nLunds & Byerly’s Highland\n2170 Ford Pkwy\, St Paul\, MN 55116\nDownload the Lunds and Byerlys Shopping List \nInver Grove Cub\n7850 Cahill Ave\, Inver Grove Heights\, MN 55076\nDownload the Cub Foods Shopping List
URL:https://neighborhoodhousemn.org/event/march-food-drive-2025-grocery-store-weekend/2025-03-23/
CATEGORIES:Community Events
END:VEVENT
BEGIN:VEVENT
DTSTART;TZID=America/Chicago:20250329T110000
DTEND;TZID=America/Chicago:20250329T140000
DTSTAMP:20260425T223016
CREATED:20250318T192219Z
LAST-MODIFIED:20250326T225545Z
UID:10001816-1743246000-1743256800@neighborhoodhousemn.org
SUMMARY:March Food Drive: Gather & Give
DESCRIPTION:Gather up your food donations for our March Food Drive open house! Drop off your donations\, tour one of our Food Markets\, and enjoy ice cream and coffee. This is a great learning opportunity for the whole family. Meet our Food Market staff\, learn how donations are processed\, and take a fun photo!
URL:https://neighborhoodhousemn.org/event/march-food-drive-2025-gather-give/
LOCATION:Wellstone Center\, 179 Robie Street E\, Saint Paul\, MN\, 55107\, United States
CATEGORIES:Community Events
END:VEVENT
END:VCALENDAR