BEGIN:VCALENDAR
VERSION:2.0
PRODID:-//Neighborhood House - ECPv6.15.20//NONSGML v1.0//EN
CALSCALE:GREGORIAN
METHOD:PUBLISH
X-WR-CALNAME:Neighborhood House
X-ORIGINAL-URL:https://neighborhoodhousemn.org
X-WR-CALDESC:Events for Neighborhood House
REFRESH-INTERVAL;VALUE=DURATION:PT1H
X-Robots-Tag:noindex
X-PUBLISHED-TTL:PT1H
BEGIN:VTIMEZONE
TZID:America/Chicago
BEGIN:DAYLIGHT
TZOFFSETFROM:-0600
TZOFFSETTO:-0500
TZNAME:CDT
DTSTART:20210314T080000
END:DAYLIGHT
BEGIN:STANDARD
TZOFFSETFROM:-0500
TZOFFSETTO:-0600
TZNAME:CST
DTSTART:20211107T070000
END:STANDARD
BEGIN:DAYLIGHT
TZOFFSETFROM:-0600
TZOFFSETTO:-0500
TZNAME:CDT
DTSTART:20220313T080000
END:DAYLIGHT
BEGIN:STANDARD
TZOFFSETFROM:-0500
TZOFFSETTO:-0600
TZNAME:CST
DTSTART:20221106T070000
END:STANDARD
BEGIN:DAYLIGHT
TZOFFSETFROM:-0600
TZOFFSETTO:-0500
TZNAME:CDT
DTSTART:20230312T080000
END:DAYLIGHT
BEGIN:STANDARD
TZOFFSETFROM:-0500
TZOFFSETTO:-0600
TZNAME:CST
DTSTART:20231105T070000
END:STANDARD
BEGIN:DAYLIGHT
TZOFFSETFROM:-0600
TZOFFSETTO:-0500
TZNAME:CDT
DTSTART:20240310T080000
END:DAYLIGHT
BEGIN:STANDARD
TZOFFSETFROM:-0500
TZOFFSETTO:-0600
TZNAME:CST
DTSTART:20241103T070000
END:STANDARD
BEGIN:DAYLIGHT
TZOFFSETFROM:-0600
TZOFFSETTO:-0500
TZNAME:CDT
DTSTART:20250309T080000
END:DAYLIGHT
BEGIN:STANDARD
TZOFFSETFROM:-0500
TZOFFSETTO:-0600
TZNAME:CST
DTSTART:20251102T070000
END:STANDARD
END:VTIMEZONE
BEGIN:VEVENT
DTSTART;TZID=America/Chicago:20240712T080000
DTEND;TZID=America/Chicago:20240712T220000
DTSTAMP:20260424T220508
CREATED:20240711T170540Z
LAST-MODIFIED:20240711T170540Z
UID:10001751-1720771200-1720821600@neighborhoodhousemn.org
SUMMARY:Neighborhood House Closed
DESCRIPTION:There will be no programming on Friday\, July 12 due to an off-site ALL STAFF meeting.
URL:https://neighborhoodhousemn.org/event/neighborhood-house-closed/
CATEGORIES:Adult Education,Community Events,Family Center,Food Support,Housing Support,Latino Leadership Program,Other,Parent and Early Childhood Education,Youth,Youth Literacy
END:VEVENT
BEGIN:VEVENT
DTSTART;VALUE=DATE:20240226
DTEND;VALUE=DATE:20240407
DTSTAMP:20260424T220508
CREATED:20240226T161246Z
LAST-MODIFIED:20240226T161247Z
UID:10001714-1708905600-1712447999@neighborhoodhousemn.org
SUMMARY:March Food Drive
DESCRIPTION:In 2022\, a staggering 5.5 million visits to food shelves marked a record-setting year. Fast forward to the close of 2023\, and Minnesota witnessed an increase to a shocking 7.5 million food shelf visits\, shattering the previous record. \n\n\n\n\nLike other food shelves in the state\, Neighborhood House’s food shelf grapples with the daunting challenge of keeping up with the need. \nThe gap between the escalating need and our limited budgets widens daily. On a regular basis\, we find ourselves unable to stock our shelves adequately to meet the growing number of families seeking assistance. Neighborhood House is now serving over seventeen hundred unique families in a month—nearly double from this time last year. \nThe only way we can move forward as a community is as a community. Unite with us in our relentless efforts to combat hunger and ensure that our neighbors in St. Paul do not endure the anguish of an empty stomach. The time to act is during March Food Drive — your involvement represents a pivotal step toward alleviating the severity of this crisis and fostering a community where no one is left hungry or forgotten. Will you stand with us? Get involved now!
URL:https://neighborhoodhousemn.org/event/march-food-drive/
LOCATION:All Neighborhood House Locations
CATEGORIES:Other
ATTACH;FMTTYPE=image/webp:https://neighborhoodhousemn.org/wp-content/uploads/MFD-2024-TRUCK.webp
END:VEVENT
BEGIN:VEVENT
DTSTART;TZID=America/Chicago:20231107T190000
DTEND;TZID=America/Chicago:20231107T203000
DTSTAMP:20260424T220508
CREATED:20221129T195625Z
LAST-MODIFIED:20221207T185257Z
UID:10001423-1699383600-1699389000@neighborhoodhousemn.org
SUMMARY:NeighbReads Book Club
DESCRIPTION:NeighbReads is a monthly book club centered around topics relevant to Neighborhood House’s work and our communities. Currently virtual\, we’ll gather to share our reflections and experiences through a guided discussion about books considering themes such as food\, housing\, racial justice\, community\, and more. \nNeighbReads is open to everyone. Please find more book information and dates here. \nJanuary 10 | 7 – 8:30 p.m.\nOverdue: Reckoning with the Public Library by Amanda Oliver \nMarch 7 | 7 – 8:30 p.m.\nDisability Visibility:\nFirst-Person Stories from the Twenty-First Century by Alice Wong \nMay 2 | 7 – 8:30 p.m.\nA Wolf at the Schoolhouse Door:\nThe Dismantling of Public Education and the Future of School\nby Jennifer Berkshire and Jack Schneider \nJuly 11 | 7 – 8:30 p.m.\nA Good Time for the Truth: Race in Minnesota\nby Sun Yung Shin \nSeptember 5 | 7 – 8:30 p.m.\nPrison by Any Other Name:\nThe Harmful Consequences of Popular Reforms\nby Maya Schenwar \nNovember 7 | 7 – 8:30 p.m.\nSpirit Car: Journey to a Dakota Past\nby Diane Wilson \nRegister here. 
URL:https://neighborhoodhousemn.org/event/book-club-2023/2023-11-07/
LOCATION:Other
CATEGORIES:Other
ATTACH;FMTTYPE=image/jpeg:https://neighborhoodhousemn.org/wp-content/uploads/Book-Club-header-1536x305-1.jpg
END:VEVENT
BEGIN:VEVENT
DTSTART;TZID=America/Chicago:20231005T173000
DTEND;TZID=America/Chicago:20231005T203000
DTSTAMP:20260424T220508
CREATED:20230427T174056Z
LAST-MODIFIED:20230816T125654Z
UID:10001653-1696527000-1696537800@neighborhoodhousemn.org
SUMMARY:Revel for a Cause - 2023
DESCRIPTION:October 5\, 2023\n5:30 – 8:30 p.m. | at the Wellstone Center \nJoin Neighborhood House on October 5\, 2023 from 5:30 – 8:30 p.m\, for our biggest fundraising event of the year\, Revel for a Cause. \nThis event will be a night of celebration\, where we hear impactful stories\, enjoy heavy appetizers\, bid on silent/live auctions\, be entertained and so much more! \nWe hope you join us in our celebrations\, as we revel for a cause. \nBuy your ticket today!
URL:https://neighborhoodhousemn.org/event/revel-for-a-cause-2023/
LOCATION:Wellstone Center\, 179 Robie Street E\, Saint Paul\, MN\, 55107\, United States
CATEGORIES:Other
ATTACH;FMTTYPE=image/jpeg:https://neighborhoodhousemn.org/wp-content/uploads/revel-header-website.jpg
END:VEVENT
BEGIN:VEVENT
DTSTART;TZID=America/Chicago:20230905T190000
DTEND;TZID=America/Chicago:20230905T203000
DTSTAMP:20260424T220508
CREATED:20221129T195625Z
LAST-MODIFIED:20221207T185257Z
UID:10001422-1693940400-1693945800@neighborhoodhousemn.org
SUMMARY:NeighbReads Book Club
DESCRIPTION:NeighbReads is a monthly book club centered around topics relevant to Neighborhood House’s work and our communities. Currently virtual\, we’ll gather to share our reflections and experiences through a guided discussion about books considering themes such as food\, housing\, racial justice\, community\, and more. \nNeighbReads is open to everyone. Please find more book information and dates here. \nJanuary 10 | 7 – 8:30 p.m.\nOverdue: Reckoning with the Public Library by Amanda Oliver \nMarch 7 | 7 – 8:30 p.m.\nDisability Visibility:\nFirst-Person Stories from the Twenty-First Century by Alice Wong \nMay 2 | 7 – 8:30 p.m.\nA Wolf at the Schoolhouse Door:\nThe Dismantling of Public Education and the Future of School\nby Jennifer Berkshire and Jack Schneider \nJuly 11 | 7 – 8:30 p.m.\nA Good Time for the Truth: Race in Minnesota\nby Sun Yung Shin \nSeptember 5 | 7 – 8:30 p.m.\nPrison by Any Other Name:\nThe Harmful Consequences of Popular Reforms\nby Maya Schenwar \nNovember 7 | 7 – 8:30 p.m.\nSpirit Car: Journey to a Dakota Past\nby Diane Wilson \nRegister here. 
URL:https://neighborhoodhousemn.org/event/book-club-2023/2023-09-05/
LOCATION:Other
CATEGORIES:Other
ATTACH;FMTTYPE=image/jpeg:https://neighborhoodhousemn.org/wp-content/uploads/Book-Club-header-1536x305-1.jpg
END:VEVENT
BEGIN:VEVENT
DTSTART;TZID=America/Chicago:20230711T190000
DTEND;TZID=America/Chicago:20230711T203000
DTSTAMP:20260424T220508
CREATED:20221129T195625Z
LAST-MODIFIED:20221207T185257Z
UID:10001421-1689102000-1689107400@neighborhoodhousemn.org
SUMMARY:NeighbReads Book Club
DESCRIPTION:NeighbReads is a monthly book club centered around topics relevant to Neighborhood House’s work and our communities. Currently virtual\, we’ll gather to share our reflections and experiences through a guided discussion about books considering themes such as food\, housing\, racial justice\, community\, and more. \nNeighbReads is open to everyone. Please find more book information and dates here. \nJanuary 10 | 7 – 8:30 p.m.\nOverdue: Reckoning with the Public Library by Amanda Oliver \nMarch 7 | 7 – 8:30 p.m.\nDisability Visibility:\nFirst-Person Stories from the Twenty-First Century by Alice Wong \nMay 2 | 7 – 8:30 p.m.\nA Wolf at the Schoolhouse Door:\nThe Dismantling of Public Education and the Future of School\nby Jennifer Berkshire and Jack Schneider \nJuly 11 | 7 – 8:30 p.m.\nA Good Time for the Truth: Race in Minnesota\nby Sun Yung Shin \nSeptember 5 | 7 – 8:30 p.m.\nPrison by Any Other Name:\nThe Harmful Consequences of Popular Reforms\nby Maya Schenwar \nNovember 7 | 7 – 8:30 p.m.\nSpirit Car: Journey to a Dakota Past\nby Diane Wilson \nRegister here. 
URL:https://neighborhoodhousemn.org/event/book-club-2023/2023-07-11/
LOCATION:Other
CATEGORIES:Other
ATTACH;FMTTYPE=image/jpeg:https://neighborhoodhousemn.org/wp-content/uploads/Book-Club-header-1536x305-1.jpg
END:VEVENT
BEGIN:VEVENT
DTSTART;TZID=America/Chicago:20230502T190000
DTEND;TZID=America/Chicago:20230502T203000
DTSTAMP:20260424T220508
CREATED:20221129T195625Z
LAST-MODIFIED:20221207T185257Z
UID:10001420-1683054000-1683059400@neighborhoodhousemn.org
SUMMARY:NeighbReads Book Club
DESCRIPTION:NeighbReads is a monthly book club centered around topics relevant to Neighborhood House’s work and our communities. Currently virtual\, we’ll gather to share our reflections and experiences through a guided discussion about books considering themes such as food\, housing\, racial justice\, community\, and more. \nNeighbReads is open to everyone. Please find more book information and dates here. \nJanuary 10 | 7 – 8:30 p.m.\nOverdue: Reckoning with the Public Library by Amanda Oliver \nMarch 7 | 7 – 8:30 p.m.\nDisability Visibility:\nFirst-Person Stories from the Twenty-First Century by Alice Wong \nMay 2 | 7 – 8:30 p.m.\nA Wolf at the Schoolhouse Door:\nThe Dismantling of Public Education and the Future of School\nby Jennifer Berkshire and Jack Schneider \nJuly 11 | 7 – 8:30 p.m.\nA Good Time for the Truth: Race in Minnesota\nby Sun Yung Shin \nSeptember 5 | 7 – 8:30 p.m.\nPrison by Any Other Name:\nThe Harmful Consequences of Popular Reforms\nby Maya Schenwar \nNovember 7 | 7 – 8:30 p.m.\nSpirit Car: Journey to a Dakota Past\nby Diane Wilson \nRegister here. 
URL:https://neighborhoodhousemn.org/event/book-club-2023/2023-05-02/
LOCATION:Other
CATEGORIES:Other
ATTACH;FMTTYPE=image/jpeg:https://neighborhoodhousemn.org/wp-content/uploads/Book-Club-header-1536x305-1.jpg
END:VEVENT
BEGIN:VEVENT
DTSTART;TZID=America/Chicago:20230404T170000
DTEND;TZID=America/Chicago:20230404T200000
DTSTAMP:20260424T220508
CREATED:20230328T183932Z
LAST-MODIFIED:20230328T184031Z
UID:10001650-1680627600-1680638400@neighborhoodhousemn.org
SUMMARY:Friends and Family March Food Drive Event (2023)
DESCRIPTION:You’re invited!!! Join us next Tuesday (4/4) at Summit Brewing for a Friends & Family – Food Drive event!!\n\n\n\nEvent Info:\n When: Tuesday\, April 4\n Time: 5 PM – 8 PM\n Where: Summit Brewing (910 Montreal Circle\, St. Paul)\n Suggested Donation: $10 or a bag of food items\n What: At this family-friendly event there will be door prizes\, a pottery raffle\, coloring contest (kids only)\, optional fun game-show style games to participate in and win prizes (like gift cards\, theatre tickets\, Neighborhood House Swag)\, a short program\, El Hornito Food Truck ($)\, Full beer menu and some n/a options ($)\, yard games\, patio\, a chance to mingle with Neighborhood House staff\, volunteers\, interns and their friends and family! — We can’t wait to see you there!\n\n\n*($) = you are responsible for purchase
URL:https://neighborhoodhousemn.org/event/2023-friends-and-family-march-food-drive-event/
LOCATION:Other
CATEGORIES:Community Events,Other
ATTACH;FMTTYPE=image/jpeg:https://neighborhoodhousemn.org/wp-content/uploads/summit-brewing-banner-photo-friends-and-family-event-2023.jpg
END:VEVENT
BEGIN:VEVENT
DTSTART;TZID=America/Chicago:20230307T190000
DTEND;TZID=America/Chicago:20230307T203000
DTSTAMP:20260424T220508
CREATED:20221129T195625Z
LAST-MODIFIED:20221207T185257Z
UID:10001419-1678215600-1678221000@neighborhoodhousemn.org
SUMMARY:NeighbReads Book Club
DESCRIPTION:NeighbReads is a monthly book club centered around topics relevant to Neighborhood House’s work and our communities. Currently virtual\, we’ll gather to share our reflections and experiences through a guided discussion about books considering themes such as food\, housing\, racial justice\, community\, and more. \nNeighbReads is open to everyone. Please find more book information and dates here. \nJanuary 10 | 7 – 8:30 p.m.\nOverdue: Reckoning with the Public Library by Amanda Oliver \nMarch 7 | 7 – 8:30 p.m.\nDisability Visibility:\nFirst-Person Stories from the Twenty-First Century by Alice Wong \nMay 2 | 7 – 8:30 p.m.\nA Wolf at the Schoolhouse Door:\nThe Dismantling of Public Education and the Future of School\nby Jennifer Berkshire and Jack Schneider \nJuly 11 | 7 – 8:30 p.m.\nA Good Time for the Truth: Race in Minnesota\nby Sun Yung Shin \nSeptember 5 | 7 – 8:30 p.m.\nPrison by Any Other Name:\nThe Harmful Consequences of Popular Reforms\nby Maya Schenwar \nNovember 7 | 7 – 8:30 p.m.\nSpirit Car: Journey to a Dakota Past\nby Diane Wilson \nRegister here. 
URL:https://neighborhoodhousemn.org/event/book-club-2023/2023-03-07/
LOCATION:Other
CATEGORIES:Other
ATTACH;FMTTYPE=image/jpeg:https://neighborhoodhousemn.org/wp-content/uploads/Book-Club-header-1536x305-1.jpg
END:VEVENT
BEGIN:VEVENT
DTSTART;VALUE=DATE:20230227
DTEND;VALUE=DATE:20230411
DTSTAMP:20260424T220508
CREATED:20230215T184754Z
LAST-MODIFIED:20230215T184754Z
UID:10001649-1677456000-1681171199@neighborhoodhousemn.org
SUMMARY:March Food Drive 2023
DESCRIPTION:Taking place from February 27 -April 9\, March Food Drive – an annual fundraiser – helps Neighborhood House distribute nearly one million pounds of healthy\, fresh and culturally-appropriate foods to our diverse group of more than 16\,000 participants visiting us annually\, allowing them to maintain their dignity\, health and culture during a challenging time in their lives. \nEach dollar donated to the Neighborhood House Food Support Program will have a portion matched by MN FoodShare? The  more money and food items (lbs.) donated throughout March Food Drive\, the more funds we receive from MN FoodShare.
URL:https://neighborhoodhousemn.org/event/march-food-drive-fundraiser-2023/
LOCATION:All Neighborhood House Locations
CATEGORIES:Other
ATTACH;FMTTYPE=image/png:https://neighborhoodhousemn.org/wp-content/uploads/Blush-Wave-LinkedIn-Banner-1.png
END:VEVENT
BEGIN:VEVENT
DTSTART;TZID=America/Chicago:20230110T190000
DTEND;TZID=America/Chicago:20230110T203000
DTSTAMP:20260424T220508
CREATED:20221129T195625Z
LAST-MODIFIED:20221207T185257Z
UID:10001418-1673377200-1673382600@neighborhoodhousemn.org
SUMMARY:NeighbReads Book Club
DESCRIPTION:NeighbReads is a monthly book club centered around topics relevant to Neighborhood House’s work and our communities. Currently virtual\, we’ll gather to share our reflections and experiences through a guided discussion about books considering themes such as food\, housing\, racial justice\, community\, and more. \nNeighbReads is open to everyone. Please find more book information and dates here. \nJanuary 10 | 7 – 8:30 p.m.\nOverdue: Reckoning with the Public Library by Amanda Oliver \nMarch 7 | 7 – 8:30 p.m.\nDisability Visibility:\nFirst-Person Stories from the Twenty-First Century by Alice Wong \nMay 2 | 7 – 8:30 p.m.\nA Wolf at the Schoolhouse Door:\nThe Dismantling of Public Education and the Future of School\nby Jennifer Berkshire and Jack Schneider \nJuly 11 | 7 – 8:30 p.m.\nA Good Time for the Truth: Race in Minnesota\nby Sun Yung Shin \nSeptember 5 | 7 – 8:30 p.m.\nPrison by Any Other Name:\nThe Harmful Consequences of Popular Reforms\nby Maya Schenwar \nNovember 7 | 7 – 8:30 p.m.\nSpirit Car: Journey to a Dakota Past\nby Diane Wilson \nRegister here. 
URL:https://neighborhoodhousemn.org/event/book-club-2023/2023-01-10/
LOCATION:Other
CATEGORIES:Other
ATTACH;FMTTYPE=image/jpeg:https://neighborhoodhousemn.org/wp-content/uploads/Book-Club-header-1536x305-1.jpg
END:VEVENT
BEGIN:VEVENT
DTSTART;VALUE=DATE:20221223
DTEND;VALUE=DATE:20221227
DTSTAMP:20260424T220508
CREATED:20221115T202200Z
LAST-MODIFIED:20221115T202200Z
UID:10000307-1671753600-1672099199@neighborhoodhousemn.org
SUMMARY:Neighborhood House Closed - Holiday
DESCRIPTION:Neighborhood House is closed on Friday\, Dec. 23 and Monday\, Dec. 26 for the holiday break. \nAll programs will not be operating this day. \nThis includes (but is not limited to): \n\nOur two food markets\nAdult Education\nPreschool classes\nAfter-school youth programs
URL:https://neighborhoodhousemn.org/event/neighborhood-house-closed-holiday-2/
LOCATION:All Neighborhood House Locations
CATEGORIES:Adult Education,Community Events,Family Center,Food Support,Housing Support,Latino Leadership Program,Other,Parent and Early Childhood Education,Parks & Rec,Youth
ATTACH;FMTTYPE=image/jpeg:https://neighborhoodhousemn.org/wp-content/uploads/Wellstonte-Center-Front-View.jpg
END:VEVENT
BEGIN:VEVENT
DTSTART;VALUE=DATE:20221124
DTEND;VALUE=DATE:20221126
DTSTAMP:20260424T220508
CREATED:20221115T201854Z
LAST-MODIFIED:20221115T201854Z
UID:10000306-1669248000-1669420799@neighborhoodhousemn.org
SUMMARY:Neighborhood House Closed - Holiday
DESCRIPTION:Neighborhood House is closed in observance of the Thanksgiving Holiday. \nAll programs will not be operating this day. \nThis includes (but is not limited to): \n\nOur two food markets\nAdult Education\nPreschool classes\nAfter-school youth programs
URL:https://neighborhoodhousemn.org/event/neighborhood-house-closed-holiday/
LOCATION:Wellstone Center\, 179 Robie Street E\, Saint Paul\, MN\, 55107\, United States
CATEGORIES:Adult Education,Community Events,Family Center,Food Support,Housing Support,Latino Leadership Program,Other,Parent and Early Childhood Education,Parks & Rec,Youth
ATTACH;FMTTYPE=image/jpeg:https://neighborhoodhousemn.org/wp-content/uploads/Wellstonte-Center-Front-View.jpg
END:VEVENT
END:VCALENDAR