BEGIN:VCALENDAR
VERSION:2.0
PRODID:-//Neighborhood House - ECPv6.15.20//NONSGML v1.0//EN
CALSCALE:GREGORIAN
METHOD:PUBLISH
X-WR-CALNAME:Neighborhood House
X-ORIGINAL-URL:https://neighborhoodhousemn.org
X-WR-CALDESC:Events for Neighborhood House
REFRESH-INTERVAL;VALUE=DURATION:PT1H
X-Robots-Tag:noindex
X-PUBLISHED-TTL:PT1H
BEGIN:VTIMEZONE
TZID:America/Chicago
BEGIN:DAYLIGHT
TZOFFSETFROM:-0600
TZOFFSETTO:-0500
TZNAME:CDT
DTSTART:20230312T080000
END:DAYLIGHT
BEGIN:STANDARD
TZOFFSETFROM:-0500
TZOFFSETTO:-0600
TZNAME:CST
DTSTART:20231105T070000
END:STANDARD
BEGIN:DAYLIGHT
TZOFFSETFROM:-0600
TZOFFSETTO:-0500
TZNAME:CDT
DTSTART:20240310T080000
END:DAYLIGHT
BEGIN:STANDARD
TZOFFSETFROM:-0500
TZOFFSETTO:-0600
TZNAME:CST
DTSTART:20241103T070000
END:STANDARD
BEGIN:DAYLIGHT
TZOFFSETFROM:-0600
TZOFFSETTO:-0500
TZNAME:CDT
DTSTART:20250309T080000
END:DAYLIGHT
BEGIN:STANDARD
TZOFFSETFROM:-0500
TZOFFSETTO:-0600
TZNAME:CST
DTSTART:20251102T070000
END:STANDARD
END:VTIMEZONE
BEGIN:VEVENT
DTSTART;TZID=America/Chicago:20241016T130000
DTEND;TZID=America/Chicago:20241016T160000
DTSTAMP:20260423T105938
CREATED:20240719T144850Z
LAST-MODIFIED:20240719T144850Z
UID:10001763-1729083600-1729094400@neighborhoodhousemn.org
SUMMARY:Neighborhood House on Montreal Food Market CLOSED
DESCRIPTION:Our Neighborhood House on Montreal Food Market will be closed from 1-4PM. Please consider joining us at our Fresh Produce Distribution from 1:30-3PM instead.
URL:https://neighborhoodhousemn.org/event/neighborhood-house-on-montreal-food-market-closed/2024-10-16/
LOCATION:Neighborhood House on Montreal\, 1080 Montreal Ave\, Saint Paul\, MN\, 55116\, United States
CATEGORIES:Food Support
ATTACH;FMTTYPE=image/jpeg:https://neighborhoodhousemn.org/wp-content/uploads/NH-on-Montreal-1.jpg
END:VEVENT
BEGIN:VEVENT
DTSTART;TZID=America/Chicago:20241016T133000
DTEND;TZID=America/Chicago:20241016T150000
DTSTAMP:20260423T105938
CREATED:20240625T190648Z
LAST-MODIFIED:20240625T190648Z
UID:10001743-1729085400-1729090800@neighborhoodhousemn.org
SUMMARY:2024 Summer/Fall Fresh Produce Distributions - NH on Montreal
DESCRIPTION:Come get free fruits and veggies for you and your household!\nFrom July to October\, you are welcome to come pick up a variety of free fruits and vegetables for you and your household. The distributions are farmer’s market style and typically held outdoors. Events are open to all and first come first served. We encourage you to bring your own large\, reusable bags. \n  \nNeighborhood House on Montreal\n1080 Montreal Ave.\, St Paul\, MN 55116\nEvery 3rd Wednesday from July to October\n7/17\, 8/21\, 9/18\, 10/16\nHours: 1:30 – 3 p.m.
URL:https://neighborhoodhousemn.org/event/2024-summer-fall-fresh-produce-distributions-nh-on-montreal/2024-10-16/
LOCATION:Neighborhood House on Montreal\, 1080 Montreal Ave\, Saint Paul\, MN\, 55116\, United States
CATEGORIES:Food Support
ATTACH;FMTTYPE=image/jpeg:https://neighborhoodhousemn.org/wp-content/uploads/NH-Food-Support-11.jpg
END:VEVENT
END:VCALENDAR