BEGIN:VCALENDAR
VERSION:2.0
PRODID:-//Neighborhood House - ECPv6.15.20//NONSGML v1.0//EN
CALSCALE:GREGORIAN
METHOD:PUBLISH
X-ORIGINAL-URL:https://neighborhoodhousemn.org
X-WR-CALDESC:Events for Neighborhood House
REFRESH-INTERVAL;VALUE=DURATION:PT1H
X-Robots-Tag:noindex
X-PUBLISHED-TTL:PT1H
BEGIN:VTIMEZONE
TZID:America/Chicago
BEGIN:DAYLIGHT
TZOFFSETFROM:-0600
TZOFFSETTO:-0500
TZNAME:CDT
DTSTART:20240310T080000
END:DAYLIGHT
BEGIN:STANDARD
TZOFFSETFROM:-0500
TZOFFSETTO:-0600
TZNAME:CST
DTSTART:20241103T070000
END:STANDARD
BEGIN:DAYLIGHT
TZOFFSETFROM:-0600
TZOFFSETTO:-0500
TZNAME:CDT
DTSTART:20250309T080000
END:DAYLIGHT
BEGIN:STANDARD
TZOFFSETFROM:-0500
TZOFFSETTO:-0600
TZNAME:CST
DTSTART:20251102T070000
END:STANDARD
BEGIN:DAYLIGHT
TZOFFSETFROM:-0600
TZOFFSETTO:-0500
TZNAME:CDT
DTSTART:20260308T080000
END:DAYLIGHT
BEGIN:STANDARD
TZOFFSETFROM:-0500
TZOFFSETTO:-0600
TZNAME:CST
DTSTART:20261101T070000
END:STANDARD
END:VTIMEZONE
BEGIN:VEVENT
DTSTART;TZID=America/Chicago:20250409T130000
DTEND;TZID=America/Chicago:20250409T160000
DTSTAMP:20260423T011928
CREATED:20241209T195357Z
LAST-MODIFIED:20241209T195357Z
UID:10001790-1744203600-1744214400@neighborhoodhousemn.org
SUMMARY:Wellstone Center Food Market CLOSED 1 – 4 p.m.
DESCRIPTION:The Wellstone Center Food Market will be closed from 1 to 4 p.m. so that our team can support the Fresh Produce Distribution event at Metro State.
URL:https://neighborhoodhousemn.org/event/wellstone-center-food-market-closed-1-4-p-m/2025-04-09/
CATEGORIES:Food Support
END:VEVENT
BEGIN:VEVENT
DTSTART;TZID=America/Chicago:20250409T143000
DTEND;TZID=America/Chicago:20250409T160000
DTSTAMP:20260423T011928
CREATED:20241014T201822Z
LAST-MODIFIED:20241120T145142Z
UID:10001783-1744209000-1744214400@neighborhoodhousemn.org
SUMMARY:Fresh Produce Distribution
DESCRIPTION:(November – May) take place at Metro State University in St. Paul. During each event\, we distribute approximately 3\,000 pounds of food to approximately 75-100 families on average. \nFor additional questions about the Food Markets\, please visit our Frequently Asked Questions page. \n\n\n\n\n\n\nEvent guideline and details: Our fresh produce events are open to everyone! \n\nRequirements: Not a thing\, just yourself. An identification is not required to attend.\nRecommendations: You will want to bring your own bags and a cart if you have one.\nCOVID-19: This event is held indoors\, masks are encouraged.\nPlease note that your fist visit will require an onsite registration process that will take 5-10 minutes to complete.\nParking: You can park in the Metro State ramp parking for $5. Otherwise\, street parking is available along 7th St. and Bates Avenue.\nIf available\, please consider brining your own reusable bags. On average our visitors take home around 40 pounds of food
URL:https://neighborhoodhousemn.org/event/fresh-produce-distribution/2025-04-09/
LOCATION:Metropolitan State University\, 101 690 E 7th St\, St Paul\, MN\, 55106\, United States
CATEGORIES:Food Support
END:VEVENT
BEGIN:VEVENT
DTSTART;TZID=America/Chicago:20250412T093000
DTEND;TZID=America/Chicago:20250412T120000
DTSTAMP:20260423T011928
CREATED:20250205T000740Z
LAST-MODIFIED:20250206T151731Z
UID:10001800-1744450200-1744459200@neighborhoodhousemn.org
SUMMARY:(2nd) Saturday Shopping
DESCRIPTION:Our Wellstone Center Food Market is open the second Saturday of each month. \nNo appointment needed\, first come first served!
URL:https://neighborhoodhousemn.org/event/2nd-saturday-shopping/2025-04-12/
LOCATION:Wellstone Center\, 179 Robie Street E\, Saint Paul\, MN\, 55107\, United States
CATEGORIES:Food Support
END:VEVENT
BEGIN:VEVENT
DTSTART;TZID=America/Chicago:20250417T130000
DTEND;TZID=America/Chicago:20250417T160000
DTSTAMP:20260423T011928
CREATED:20250417T151720Z
LAST-MODIFIED:20250417T151720Z
UID:10001818-1744894800-1744905600@neighborhoodhousemn.org
SUMMARY:Wellstone Food Market CLOSED 1-4 p.m.
DESCRIPTION:The Wellstone Food Market will be closed 1-4pm.
URL:https://neighborhoodhousemn.org/event/wellstone-food-market-closed-1-4-p-m/
CATEGORIES:Food Support
END:VEVENT
END:VCALENDAR