BEGIN:VCALENDAR
VERSION:2.0
PRODID:-//Neighborhood House - ECPv6.15.20//NONSGML v1.0//EN
CALSCALE:GREGORIAN
METHOD:PUBLISH
X-ORIGINAL-URL:https://neighborhoodhousemn.org
X-WR-CALDESC:Events for Neighborhood House
REFRESH-INTERVAL;VALUE=DURATION:PT1H
X-Robots-Tag:noindex
X-PUBLISHED-TTL:PT1H
BEGIN:VTIMEZONE
TZID:America/Chicago
BEGIN:DAYLIGHT
TZOFFSETFROM:-0600
TZOFFSETTO:-0500
TZNAME:CDT
DTSTART:20240310T080000
END:DAYLIGHT
BEGIN:STANDARD
TZOFFSETFROM:-0500
TZOFFSETTO:-0600
TZNAME:CST
DTSTART:20241103T070000
END:STANDARD
BEGIN:DAYLIGHT
TZOFFSETFROM:-0600
TZOFFSETTO:-0500
TZNAME:CDT
DTSTART:20250309T080000
END:DAYLIGHT
BEGIN:STANDARD
TZOFFSETFROM:-0500
TZOFFSETTO:-0600
TZNAME:CST
DTSTART:20251102T070000
END:STANDARD
BEGIN:DAYLIGHT
TZOFFSETFROM:-0600
TZOFFSETTO:-0500
TZNAME:CDT
DTSTART:20260308T080000
END:DAYLIGHT
BEGIN:STANDARD
TZOFFSETFROM:-0500
TZOFFSETTO:-0600
TZNAME:CST
DTSTART:20261101T070000
END:STANDARD
END:VTIMEZONE
BEGIN:VEVENT
DTSTART;TZID=America/Chicago:20250208T093000
DTEND;TZID=America/Chicago:20250208T120000
DTSTAMP:20260423T035515
CREATED:20250206T201831Z
LAST-MODIFIED:20250206T201831Z
UID:10001810-1739007000-1739016000@neighborhoodhousemn.org
SUMMARY:(2nd) Saturday Shopping - CANCELED DUE TO WEATHER
DESCRIPTION:Due to bad weather\, the 2nd Saturday shopping will be on 2/15 from 9:30 a.m. to noon. \nOur Wellstone Center Food Market is open the second Saturday of each month. \nNo appointment needed\, first come first served!
URL:https://neighborhoodhousemn.org/event/2nd-saturday-shopping-canceled-due-to-weather/
CATEGORIES:Food Support
END:VEVENT
BEGIN:VEVENT
DTSTART;TZID=America/Chicago:20250212T130000
DTEND;TZID=America/Chicago:20250212T160000
DTSTAMP:20260423T035515
CREATED:20241209T195357Z
LAST-MODIFIED:20241209T195357Z
UID:10001788-1739365200-1739376000@neighborhoodhousemn.org
SUMMARY:Wellstone Center Food Market CLOSED 1 – 4 p.m.
DESCRIPTION:The Wellstone Center Food Market will be closed from 1 to 4 p.m. so that our team can support the Fresh Produce Distribution event at Metro State.
URL:https://neighborhoodhousemn.org/event/wellstone-center-food-market-closed-1-4-p-m/2025-02-12/
CATEGORIES:Food Support
END:VEVENT
BEGIN:VEVENT
DTSTART;TZID=America/Chicago:20250212T143000
DTEND;TZID=America/Chicago:20250212T160000
DTSTAMP:20260423T035515
CREATED:20241014T201822Z
LAST-MODIFIED:20241120T145142Z
UID:10001781-1739370600-1739376000@neighborhoodhousemn.org
SUMMARY:Fresh Produce Distribution
DESCRIPTION:(November – May) take place at Metro State University in St. Paul. During each event\, we distribute approximately 3\,000 pounds of food to approximately 75-100 families on average. \nFor additional questions about the Food Markets\, please visit our Frequently Asked Questions page. \n\n\n\n\n\n\nEvent guideline and details: Our fresh produce events are open to everyone! \n\nRequirements: Not a thing\, just yourself. An identification is not required to attend.\nRecommendations: You will want to bring your own bags and a cart if you have one.\nCOVID-19: This event is held indoors\, masks are encouraged.\nPlease note that your fist visit will require an onsite registration process that will take 5-10 minutes to complete.\nParking: You can park in the Metro State ramp parking for $5. Otherwise\, street parking is available along 7th St. and Bates Avenue.\nIf available\, please consider brining your own reusable bags. On average our visitors take home around 40 pounds of food
URL:https://neighborhoodhousemn.org/event/fresh-produce-distribution/2025-02-12/
LOCATION:Metropolitan State University\, 101 690 E 7th St\, St Paul\, MN\, 55106\, United States
CATEGORIES:Food Support
END:VEVENT
BEGIN:VEVENT
DTSTART;TZID=America/Chicago:20250214T093000
DTEND;TZID=America/Chicago:20250214T113000
DTSTAMP:20260423T035515
CREATED:20250206T152106Z
LAST-MODIFIED:20250206T152106Z
UID:10001803-1739525400-1739532600@neighborhoodhousemn.org
SUMMARY:Wellstone Center Food Market CLOSED 9:30 – 11:30 a.m.
DESCRIPTION:Wellstone Center Food Market will be closed from 9:30 to 11:30 a.m.
URL:https://neighborhoodhousemn.org/event/wellstone-center-food-market-closed-930-1130-a-m/
LOCATION:Wellstone Center\, 179 Robie Street E\, Saint Paul\, MN\, 55107\, United States
CATEGORIES:Food Support
END:VEVENT
BEGIN:VEVENT
DTSTART;TZID=America/Chicago:20250215T093000
DTEND;TZID=America/Chicago:20250215T120000
DTSTAMP:20260423T035515
CREATED:20250206T194639Z
LAST-MODIFIED:20250206T195715Z
UID:10001809-1739611800-1739620800@neighborhoodhousemn.org
SUMMARY:(2nd) Saturday Shopping
DESCRIPTION:RESCHEDULED FROM 2/8 \nOur Wellstone Center Food Market is open the second Saturday of each month. \nNo appointment needed\, first come first served!
URL:https://neighborhoodhousemn.org/event/2nd-saturday-shopping-2/
LOCATION:Wellstone Center\, 179 Robie Street E\, Saint Paul\, MN\, 55107\, United States
CATEGORIES:Food Support
END:VEVENT
END:VCALENDAR