BEGIN:VCALENDAR
VERSION:2.0
PRODID:-//Neighborhood House - ECPv6.15.20//NONSGML v1.0//EN
CALSCALE:GREGORIAN
METHOD:PUBLISH
X-WR-CALNAME:Neighborhood House
X-ORIGINAL-URL:https://neighborhoodhousemn.org
X-WR-CALDESC:Events for Neighborhood House
REFRESH-INTERVAL;VALUE=DURATION:PT1H
X-Robots-Tag:noindex
X-PUBLISHED-TTL:PT1H
BEGIN:VTIMEZONE
TZID:America/Chicago
BEGIN:DAYLIGHT
TZOFFSETFROM:-0600
TZOFFSETTO:-0500
TZNAME:CDT
DTSTART:20230312T080000
END:DAYLIGHT
BEGIN:STANDARD
TZOFFSETFROM:-0500
TZOFFSETTO:-0600
TZNAME:CST
DTSTART:20231105T070000
END:STANDARD
BEGIN:DAYLIGHT
TZOFFSETFROM:-0600
TZOFFSETTO:-0500
TZNAME:CDT
DTSTART:20240310T080000
END:DAYLIGHT
BEGIN:STANDARD
TZOFFSETFROM:-0500
TZOFFSETTO:-0600
TZNAME:CST
DTSTART:20241103T070000
END:STANDARD
BEGIN:DAYLIGHT
TZOFFSETFROM:-0600
TZOFFSETTO:-0500
TZNAME:CDT
DTSTART:20250309T080000
END:DAYLIGHT
BEGIN:STANDARD
TZOFFSETFROM:-0500
TZOFFSETTO:-0600
TZNAME:CST
DTSTART:20251102T070000
END:STANDARD
END:VTIMEZONE
BEGIN:VEVENT
DTSTART;TZID=America/Chicago:20241127T143000
DTEND;TZID=America/Chicago:20241127T160000
DTSTAMP:20260423T075323
CREATED:20241120T145521Z
LAST-MODIFIED:20241120T145521Z
UID:10001785-1732717800-1732723200@neighborhoodhousemn.org
SUMMARY:Special Holiday Fresh Produce Distribution
DESCRIPTION:At this event you can expect to receive a variety of fruits and vegetables that will be perfect for preparing a home cooked holiday meal! \nDress for the weather as the event is outdoors!
URL:https://neighborhoodhousemn.org/event/special-holiday-fresh-produce-distribution/
LOCATION:Wellstone Center\, 179 Robie Street E\, Saint Paul\, MN\, 55107\, United States
CATEGORIES:Food Support
END:VEVENT
END:VCALENDAR