BEGIN:VCALENDAR
VERSION:2.0
PRODID:-//Neighborhood House - ECPv6.15.20//NONSGML v1.0//EN
CALSCALE:GREGORIAN
METHOD:PUBLISH
X-ORIGINAL-URL:https://neighborhoodhousemn.org
X-WR-CALDESC:Events for Neighborhood House
REFRESH-INTERVAL;VALUE=DURATION:PT1H
X-Robots-Tag:noindex
X-PUBLISHED-TTL:PT1H
BEGIN:VTIMEZONE
TZID:America/Chicago
BEGIN:DAYLIGHT
TZOFFSETFROM:-0600
TZOFFSETTO:-0500
TZNAME:CDT
DTSTART:20210314T080000
END:DAYLIGHT
BEGIN:STANDARD
TZOFFSETFROM:-0500
TZOFFSETTO:-0600
TZNAME:CST
DTSTART:20211107T070000
END:STANDARD
BEGIN:DAYLIGHT
TZOFFSETFROM:-0600
TZOFFSETTO:-0500
TZNAME:CDT
DTSTART:20220313T080000
END:DAYLIGHT
BEGIN:STANDARD
TZOFFSETFROM:-0500
TZOFFSETTO:-0600
TZNAME:CST
DTSTART:20221106T070000
END:STANDARD
BEGIN:DAYLIGHT
TZOFFSETFROM:-0600
TZOFFSETTO:-0500
TZNAME:CDT
DTSTART:20230312T080000
END:DAYLIGHT
BEGIN:STANDARD
TZOFFSETFROM:-0500
TZOFFSETTO:-0600
TZNAME:CST
DTSTART:20231105T070000
END:STANDARD
BEGIN:DAYLIGHT
TZOFFSETFROM:-0600
TZOFFSETTO:-0500
TZNAME:CDT
DTSTART:20240310T080000
END:DAYLIGHT
BEGIN:STANDARD
TZOFFSETFROM:-0500
TZOFFSETTO:-0600
TZNAME:CST
DTSTART:20241103T070000
END:STANDARD
END:VTIMEZONE
BEGIN:VEVENT
DTSTART;TZID=America/Chicago:20230721T200000
DTEND;TZID=America/Chicago:20230721T220000
DTSTAMP:20260424T113040
CREATED:20230612T203807Z
LAST-MODIFIED:20230630T104603Z
UID:10001676-1689969600-1689976800@neighborhoodhousemn.org
SUMMARY:Movies in the Park - Wellstone Center/Parque Castillo: "Puss in Boots: The Last Wish"
DESCRIPTION:Saint Paul Movies in the Parks\nBring along a blanket or a lawn chair and enjoy a starlit night of fun with friends and family! Movies in the Parks provides a wide range of outdoor films at parks and recreation centers around Saint Paul. Movies in the Parks events are free and open to the public. Movies are weather dependent and subject to change without notice. All children under 10 years of age must be accompanied by an adult. Rated R movies are 18+ events. Movies in the Parks are pet friendly events (unless otherwise noted)\, but pets must be kept on a leash no longer than 6ft at all times. Unless otherwise noted\, all movies will be closed captioned in English. \n2023 Movies in the Parks Schedule\nMovies typically begin at dusk\, but some may start earlier or later. Some offer pre-show activities or food trucks and those will be announced as they are finalized\, so check back for updates.
URL:https://neighborhoodhousemn.org/event/movies-in-the-park-wellstone-center-parque-castillo-puss-in-boots-the-last-wish/
LOCATION:Wellstone Center\, 179 Robie Street E\, Saint Paul\, MN\, 55107\, United States
CATEGORIES:Community Events
ATTACH;FMTTYPE=image/jpeg:https://neighborhoodhousemn.org/wp-content/uploads/puss-in-boots.jpeg
END:VEVENT
BEGIN:VEVENT
DTSTART;TZID=America/Chicago:20230720T170000
DTEND;TZID=America/Chicago:20230720T190000
DTSTAMP:20260424T113040
CREATED:20230612T204036Z
LAST-MODIFIED:20230612T204037Z
UID:10001677-1689872400-1689879600@neighborhoodhousemn.org
SUMMARY:Safe Summer Nights - Wellstone Center/El Rio Vista Rec Center
DESCRIPTION:How do you spread safety and goodwill throughout the City of Saint Paul?  By firing up the grill of course! \nThe Safe Summer Nights program is designed to provide opportunities for police officers to become acquainted with residents of the neighborhoods they serve over a meal rather than during times of trouble. The initiative began in 2014 when Safe Summer Nights partnered with the Saint Paul Police Department and the Saint Paul Parks & Recreation Department to host events in Saint Paul that brought neighborhood families and police officers together in a picnic-type setting. Safe Summer Nights help bridge the gap between police and the people they serve. \nSchedule:   \nThe FREE\, public events feature food\, activities for children and ample opportunities for attendees to meet their Saint Paul police officers. The Bear Cat vehicle\, which is always popular with kids\, will be there too.  Each event occurs on Thursday from 5pm-7pm.
URL:https://neighborhoodhousemn.org/event/safe-summer-nights-wellstone-center-el-rio-vista-rec-center/
LOCATION:Wellstone Center\, 179 Robie Street E\, Saint Paul\, MN\, 55107\, United States
CATEGORIES:Community Events
ATTACH;FMTTYPE=image/jpeg:https://neighborhoodhousemn.org/wp-content/uploads/May_2018_5.jpg
END:VEVENT
BEGIN:VEVENT
DTSTART;TZID=America/Chicago:20230713T193000
DTEND;TZID=America/Chicago:20230713T220000
DTSTAMP:20260424T113040
CREATED:20230612T203439Z
LAST-MODIFIED:20230612T203440Z
UID:10001675-1689276600-1689285600@neighborhoodhousemn.org
SUMMARY:Movies in the Park - Sibley Manor: "DC League of Super Pets"
DESCRIPTION:Saint Paul Movies in the Parks\nBring along a blanket or a lawn chair and enjoy a starlit night of fun with friends and family! Movies in the Parks provides a wide range of outdoor films at parks and recreation centers around Saint Paul. Movies in the Parks events are free and open to the public. Movies are weather dependent and subject to change without notice. All children under 10 years of age must be accompanied by an adult. Rated R movies are 18+ events. Movies in the Parks are pet friendly events (unless otherwise noted)\, but pets must be kept on a leash no longer than 6ft at all times. Unless otherwise noted\, all movies will be closed captioned in English. \n2023 Movies in the Parks Schedule\nMovies typically begin at dusk\, but some may start earlier or later. Some offer pre-show activities or food trucks and those will be announced as they are finalized\, so check back for updates.
URL:https://neighborhoodhousemn.org/event/movies-in-the-park-sibley-manor-dc-league-of-super-pets/
LOCATION:Francis Basket\, 1293 E Maynard Dr #410\, Saint Paul\, MN\, 55116\, United States
CATEGORIES:Community Events
ATTACH;FMTTYPE=image/jpeg:https://neighborhoodhousemn.org/wp-content/uploads/DC-league-of-super-pets.jpg
END:VEVENT
BEGIN:VEVENT
DTSTART;TZID=America/Chicago:20230404T170000
DTEND;TZID=America/Chicago:20230404T200000
DTSTAMP:20260424T113040
CREATED:20230328T183932Z
LAST-MODIFIED:20230328T184031Z
UID:10001650-1680627600-1680638400@neighborhoodhousemn.org
SUMMARY:Friends and Family March Food Drive Event (2023)
DESCRIPTION:You’re invited!!! Join us next Tuesday (4/4) at Summit Brewing for a Friends & Family – Food Drive event!!\n\n\n\nEvent Info:\n When: Tuesday\, April 4\n Time: 5 PM – 8 PM\n Where: Summit Brewing (910 Montreal Circle\, St. Paul)\n Suggested Donation: $10 or a bag of food items\n What: At this family-friendly event there will be door prizes\, a pottery raffle\, coloring contest (kids only)\, optional fun game-show style games to participate in and win prizes (like gift cards\, theatre tickets\, Neighborhood House Swag)\, a short program\, El Hornito Food Truck ($)\, Full beer menu and some n/a options ($)\, yard games\, patio\, a chance to mingle with Neighborhood House staff\, volunteers\, interns and their friends and family! — We can’t wait to see you there!\n\n\n*($) = you are responsible for purchase
URL:https://neighborhoodhousemn.org/event/2023-friends-and-family-march-food-drive-event/
LOCATION:Other
CATEGORIES:Community Events,Other
ATTACH;FMTTYPE=image/jpeg:https://neighborhoodhousemn.org/wp-content/uploads/summit-brewing-banner-photo-friends-and-family-event-2023.jpg
END:VEVENT
BEGIN:VEVENT
DTSTART;TZID=America/Chicago:20230218T120000
DTEND;TZID=America/Chicago:20230218T160000
DTSTAMP:20260424T113040
CREATED:20230208T174922Z
LAST-MODIFIED:20230208T180530Z
UID:10001486-1676721600-1676736000@neighborhoodhousemn.org
SUMMARY:Movie: Wakanda Forever
DESCRIPTION:Wakanda Forever @ Wellstone Center | February 18 | 12pm – 4pm \nJoin us for the next event celebrating Black History month on the West Side: a free screening of Wakanda Forever (the sequel to Black Panther) at the Wellstone Center. This event is free to attend for all ages. \nHosted by WSCO and Neighborhood House.
URL:https://neighborhoodhousemn.org/event/movie-wakanda-forever/
LOCATION:Wellstone Center\, 179 Robie Street E\, Saint Paul\, MN\, 55107\, United States
CATEGORIES:Community Events
ATTACH;FMTTYPE=image/jpeg:https://neighborhoodhousemn.org/wp-content/uploads/327286985_732825171847637_6153104992065473379_n.jpg
END:VEVENT
BEGIN:VEVENT
DTSTART;VALUE=DATE:20221223
DTEND;VALUE=DATE:20221227
DTSTAMP:20260424T113040
CREATED:20221115T202200Z
LAST-MODIFIED:20221115T202200Z
UID:10000307-1671753600-1672099199@neighborhoodhousemn.org
SUMMARY:Neighborhood House Closed - Holiday
DESCRIPTION:Neighborhood House is closed on Friday\, Dec. 23 and Monday\, Dec. 26 for the holiday break. \nAll programs will not be operating this day. \nThis includes (but is not limited to): \n\nOur two food markets\nAdult Education\nPreschool classes\nAfter-school youth programs
URL:https://neighborhoodhousemn.org/event/neighborhood-house-closed-holiday-2/
LOCATION:All Neighborhood House Locations
CATEGORIES:Adult Education,Community Events,Family Center,Food Support,Housing Support,Latino Leadership Program,Other,Parent and Early Childhood Education,Parks & Rec,Youth
ATTACH;FMTTYPE=image/jpeg:https://neighborhoodhousemn.org/wp-content/uploads/Wellstonte-Center-Front-View.jpg
END:VEVENT
BEGIN:VEVENT
DTSTART;VALUE=DATE:20221124
DTEND;VALUE=DATE:20221126
DTSTAMP:20260424T113040
CREATED:20221115T201854Z
LAST-MODIFIED:20221115T201854Z
UID:10000306-1669248000-1669420799@neighborhoodhousemn.org
SUMMARY:Neighborhood House Closed - Holiday
DESCRIPTION:Neighborhood House is closed in observance of the Thanksgiving Holiday. \nAll programs will not be operating this day. \nThis includes (but is not limited to): \n\nOur two food markets\nAdult Education\nPreschool classes\nAfter-school youth programs
URL:https://neighborhoodhousemn.org/event/neighborhood-house-closed-holiday/
LOCATION:Wellstone Center\, 179 Robie Street E\, Saint Paul\, MN\, 55107\, United States
CATEGORIES:Adult Education,Community Events,Family Center,Food Support,Housing Support,Latino Leadership Program,Other,Parent and Early Childhood Education,Parks & Rec,Youth
ATTACH;FMTTYPE=image/jpeg:https://neighborhoodhousemn.org/wp-content/uploads/Wellstonte-Center-Front-View.jpg
END:VEVENT
END:VCALENDAR