BEGIN:VCALENDAR
VERSION:2.0
PRODID:-//Neighborhood House - ECPv6.15.20//NONSGML v1.0//EN
CALSCALE:GREGORIAN
METHOD:PUBLISH
X-ORIGINAL-URL:https://neighborhoodhousemn.org
X-WR-CALDESC:Events for Neighborhood House
REFRESH-INTERVAL;VALUE=DURATION:PT1H
X-Robots-Tag:noindex
X-PUBLISHED-TTL:PT1H
BEGIN:VTIMEZONE
TZID:America/Chicago
BEGIN:DAYLIGHT
TZOFFSETFROM:-0600
TZOFFSETTO:-0500
TZNAME:CDT
DTSTART:20240310T080000
END:DAYLIGHT
BEGIN:STANDARD
TZOFFSETFROM:-0500
TZOFFSETTO:-0600
TZNAME:CST
DTSTART:20241103T070000
END:STANDARD
BEGIN:DAYLIGHT
TZOFFSETFROM:-0600
TZOFFSETTO:-0500
TZNAME:CDT
DTSTART:20250309T080000
END:DAYLIGHT
BEGIN:STANDARD
TZOFFSETFROM:-0500
TZOFFSETTO:-0600
TZNAME:CST
DTSTART:20251102T070000
END:STANDARD
BEGIN:DAYLIGHT
TZOFFSETFROM:-0600
TZOFFSETTO:-0500
TZNAME:CDT
DTSTART:20260308T080000
END:DAYLIGHT
BEGIN:STANDARD
TZOFFSETFROM:-0500
TZOFFSETTO:-0600
TZNAME:CST
DTSTART:20261101T070000
END:STANDARD
END:VTIMEZONE
BEGIN:VEVENT
DTSTART;TZID=America/Chicago:20250402T160000
DTEND;TZID=America/Chicago:20250402T190000
DTSTAMP:20260425T222951
CREATED:20250318T193443Z
LAST-MODIFIED:20250326T225705Z
UID:10001817-1743609600-1743620400@neighborhoodhousemn.org
SUMMARY:March Food Drive: The Final Pour
DESCRIPTION:Please join us at Wandering Leaf Brewing to close out March Food Drive and celebrate our incredible community! We’ll have a final Food & Fund Collection\, present awards to our top fundraisers\, and mingle. Wandering Leaf will donate $1 for every tall beer poured during the event.
URL:https://neighborhoodhousemn.org/event/march-food-drive-2025-the-final-pour/
LOCATION:Wandering Leaf Brewing Co.\, 2463 7th St W\, St. Paul\, MN\, 55116\, United States
CATEGORIES:Community Events
END:VEVENT
END:VCALENDAR